BEGIN:VCALENDAR
VERSION:2.0
PRODID:-//wp-events-plugin.com//7.2.3.1//EN
TZID:Europe/Berlin
X-WR-TIMEZONE:Europe/Berlin
BEGIN:VEVENT
UID:19@dailysign.de
DTSTART;TZID=Europe/Berlin;VALUE=DATE:20240812
DTEND;TZID=Europe/Berlin;VALUE=DATE:20240813
DTSTAMP:20240207T115810Z
URL:https://www.dailysign.de/kalender/schroedingers-katze-2024-08-12/
SUMMARY:LEBENDTOD
DESCRIPTION:12.08.1887\nGeburt Erwin Schrödinger - Quantenphysiker\nSchrö
 dingers Katze kaufen
ATTACH;FMTTYPE=image/jpeg:https://www.dailysign.de/wp-content/uploads/2021
 /10/02-21_NACHTTIERE_SCHROEDINGERS-KATZE.jpg
END:VEVENT
BEGIN:VTIMEZONE
TZID:Europe/Berlin
X-LIC-LOCATION:Europe/Berlin
BEGIN:DAYLIGHT
DTSTART:20240331T030000
TZOFFSETFROM:+0100
TZOFFSETTO:+0200
TZNAME:CEST
END:DAYLIGHT
END:VTIMEZONE
END:VCALENDAR