BEGIN:VCALENDAR
VERSION:2.0
PRODID:-//wp-events-plugin.com//7.2.3.1//EN
TZID:Europe/Berlin
X-WR-TIMEZONE:Europe/Berlin
BEGIN:VEVENT
UID:15@dailysign.de
DTSTART;TZID=Europe/Berlin;VALUE=DATE:20240918
DTEND;TZID=Europe/Berlin;VALUE=DATE:20240919
DTSTAMP:20240415T072853Z
URL:https://www.dailysign.de/kalender/neue-handtaeschchen-fuer-banker-2024
 -10-25/
SUMMARY:BANKER
DESCRIPTION:18.09.2015\nVW-Abgasskandal: USA-Umweltbehörde bestätigt Mani
 pulation\nHandtäschchen für Banker kaufen
ATTACH;FMTTYPE=image/jpeg:https://www.dailysign.de/wp-content/uploads/2024
 /01/11-21_METAMORPHOSE_GREENWASH-scaled.jpg
END:VEVENT
BEGIN:VTIMEZONE
TZID:Europe/Berlin
X-LIC-LOCATION:Europe/Berlin
BEGIN:DAYLIGHT
DTSTART:20240331T030000
TZOFFSETFROM:+0100
TZOFFSETTO:+0200
TZNAME:CEST
END:DAYLIGHT
END:VTIMEZONE
END:VCALENDAR