BEGIN:VCALENDAR
VERSION:2.0
PRODID:-//wp-events-plugin.com//7.2.3.1//EN
TZID:Europe/Berlin
X-WR-TIMEZONE:Europe/Berlin
BEGIN:VEVENT
UID:240@dailysign.de
DTSTART;TZID=Europe/Berlin;VALUE=DATE:20240707
DTEND;TZID=Europe/Berlin;VALUE=DATE:20240708
DTSTAMP:20240417T094055Z
URL:https://www.dailysign.de/kalender/duden-2024-07-07/
SUMMARY:DUDEN
DESCRIPTION:07.07.1880\nDuden stellt seinen neuen Duden vor\nDUDEN kaufen
ATTACH;FMTTYPE=image/jpeg:https://www.dailysign.de/wp-content/uploads/2024
 /04/DUDEN_gerade.jpg
END:VEVENT
BEGIN:VTIMEZONE
TZID:Europe/Berlin
X-LIC-LOCATION:Europe/Berlin
BEGIN:DAYLIGHT
DTSTART:20240331T030000
TZOFFSETFROM:+0100
TZOFFSETTO:+0200
TZNAME:CEST
END:DAYLIGHT
END:VTIMEZONE
END:VCALENDAR