BEGIN:VCALENDAR
VERSION:2.0
PRODID:-//wp-events-plugin.com//7.2.3.1//EN
TZID:Europe/Berlin
X-WR-TIMEZONE:Europe/Berlin
BEGIN:VEVENT
UID:744@dailysign.de
DTSTART;TZID=Europe/Berlin;VALUE=DATE:20240207
DTEND;TZID=Europe/Berlin;VALUE=DATE:20240208
DTSTAMP:20240417T043935Z
URL:https://www.dailysign.de/kalender/6497-2024-02-07/
SUMMARY:SANDRO
DESCRIPTION:07.02.1497\nNach einer flammenden Predigt von Girolamo Savonaro
 la werden in Florenz Luxusgegenstände verbrannt. Auch Sandro Botticelli 
 übergibt einige seiner Bilder den Flammen.\nSANDRO kaufen
ATTACH;FMTTYPE=image/jpeg:https://www.dailysign.de/wp-content/uploads/2024
 /04/SANDRO_gerade.jpg
END:VEVENT
BEGIN:VTIMEZONE
TZID:Europe/Berlin
X-LIC-LOCATION:Europe/Berlin
BEGIN:STANDARD
DTSTART:20231029T020000
TZOFFSETFROM:+0200
TZOFFSETTO:+0100
TZNAME:CET
END:STANDARD
END:VTIMEZONE
END:VCALENDAR