BEGIN:VCALENDAR
VERSION:2.0
PRODID:-//wp-events-plugin.com//7.2.3.1//EN
TZID:Europe/Berlin
X-WR-TIMEZONE:Europe/Berlin
BEGIN:VEVENT
UID:474@dailysign.de
DTSTART;TZID=Europe/Berlin:20240421T000000
DTEND;TZID=Europe/Berlin:20240421T000000
DTSTAMP:20240318T101946Z
URL:https://www.dailysign.de/kalender/5683-2024-04-21/
SUMMARY:QUEEN
DESCRIPTION:21.04.1926\nQueen Elisabeth II. wird geboren\nQUEEN kaufen
ATTACH;FMTTYPE=image/jpeg:https://www.dailysign.de/wp-content/uploads/2024
 /03/QUEEN_gerade.jpg
END:VEVENT
BEGIN:VTIMEZONE
TZID:Europe/Berlin
X-LIC-LOCATION:Europe/Berlin
BEGIN:DAYLIGHT
DTSTART:20240331T030000
TZOFFSETFROM:+0100
TZOFFSETTO:+0200
TZNAME:CEST
END:DAYLIGHT
END:VTIMEZONE
END:VCALENDAR