BEGIN:VCALENDAR
VERSION:2.0
PRODID:-//wp-events-plugin.com//7.2.3.1//EN
TZID:Europe/Berlin
X-WR-TIMEZONE:Europe/Berlin
BEGIN:VEVENT
UID:317@dailysign.de
DTSTART;TZID=Europe/Berlin;VALUE=DATE:20240504
DTEND;TZID=Europe/Berlin;VALUE=DATE:20240505
DTSTAMP:20240318T130101Z
URL:https://www.dailysign.de/kalender/5224-2024-05-04/
SUMMARY:CODE
DESCRIPTION:04.05.\nWelt-Passwort-Tag\nCODE kaufen
ATTACH;FMTTYPE=image/jpeg:https://www.dailysign.de/wp-content/uploads/2024
 /03/CODE-2_gerade.jpg
END:VEVENT
BEGIN:VTIMEZONE
TZID:Europe/Berlin
X-LIC-LOCATION:Europe/Berlin
BEGIN:DAYLIGHT
DTSTART:20240331T030000
TZOFFSETFROM:+0100
TZOFFSETTO:+0200
TZNAME:CEST
END:DAYLIGHT
END:VTIMEZONE
END:VCALENDAR